BEGIN:VCALENDAR
VERSION:2.0
PRODID:-//La Grenouille Rose - ECPv6.15.20//NONSGML v1.0//EN
CALSCALE:GREGORIAN
METHOD:PUBLISH
X-ORIGINAL-URL:https://grenouillerose.com
X-WR-CALDESC:Évènements pour La Grenouille Rose
REFRESH-INTERVAL;VALUE=DURATION:PT1H
X-Robots-Tag:noindex
X-PUBLISHED-TTL:PT1H
BEGIN:VTIMEZONE
TZID:America/New_York
BEGIN:DAYLIGHT
TZOFFSETFROM:-0500
TZOFFSETTO:-0400
TZNAME:EDT
DTSTART:20230312T070000
END:DAYLIGHT
BEGIN:STANDARD
TZOFFSETFROM:-0400
TZOFFSETTO:-0500
TZNAME:EST
DTSTART:20231105T060000
END:STANDARD
BEGIN:DAYLIGHT
TZOFFSETFROM:-0500
TZOFFSETTO:-0400
TZNAME:EDT
DTSTART:20240310T070000
END:DAYLIGHT
BEGIN:STANDARD
TZOFFSETFROM:-0400
TZOFFSETTO:-0500
TZNAME:EST
DTSTART:20241103T060000
END:STANDARD
BEGIN:DAYLIGHT
TZOFFSETFROM:-0500
TZOFFSETTO:-0400
TZNAME:EDT
DTSTART:20250309T070000
END:DAYLIGHT
BEGIN:STANDARD
TZOFFSETFROM:-0400
TZOFFSETTO:-0500
TZNAME:EST
DTSTART:20251102T060000
END:STANDARD
BEGIN:DAYLIGHT
TZOFFSETFROM:-0500
TZOFFSETTO:-0400
TZNAME:EDT
DTSTART:20260308T070000
END:DAYLIGHT
BEGIN:STANDARD
TZOFFSETFROM:-0400
TZOFFSETTO:-0500
TZNAME:EST
DTSTART:20261101T060000
END:STANDARD
BEGIN:DAYLIGHT
TZOFFSETFROM:-0500
TZOFFSETTO:-0400
TZNAME:EDT
DTSTART:20270314T070000
END:DAYLIGHT
BEGIN:STANDARD
TZOFFSETFROM:-0400
TZOFFSETTO:-0500
TZNAME:EST
DTSTART:20271107T060000
END:STANDARD
END:VTIMEZONE
BEGIN:VEVENT
DTSTART;TZID=America/New_York:20260131T083000
DTEND;TZID=America/New_York:20260131T160000
DTSTAMP:20260420T065655
CREATED:20251219T155752Z
LAST-MODIFIED:20251219T155907Z
UID:1187-1769848200-1769875200@grenouillerose.com
SUMMARY:Colloque du 31 janvier 2026
DESCRIPTION:Important: Les RSGE de La Grenouille Rose doivent confirmer leur présence pour y participer en contactant notre bureau coordonnateur. Merci!
URL:https://grenouillerose.com/evenement/colloque-du-31-janvier-2026/
END:VEVENT
BEGIN:VEVENT
DTSTART;TZID=America/New_York:20251004T083000
DTEND;TZID=America/New_York:20251004T120000
DTSTAMP:20260420T065655
CREATED:20250908T124007Z
LAST-MODIFIED:20250908T124021Z
UID:1154-1759566600-1759579200@grenouillerose.com
SUMMARY:Rencontre automnale du 4 octobre 2025
DESCRIPTION:N’oubliez pas de mentionner si vous serez des nôtres!
URL:https://grenouillerose.com/evenement/rencontre-automnale-du-4-octobre-2025/
END:VEVENT
BEGIN:VEVENT
DTSTART;TZID=America/New_York:20250503T083000
DTEND;TZID=America/New_York:20250503T120000
DTSTAMP:20260420T065655
CREATED:20250224T133638Z
LAST-MODIFIED:20250404T114101Z
UID:1075-1746261000-1746273600@grenouillerose.com
SUMMARY:Rencontre café - causerie  informative le 3 mai 2025
DESCRIPTION:Svp confirmer votre présence avant le 28 avril 2025.
URL:https://grenouillerose.com/evenement/rencontre-cafe-causerie-et-informative-date-a-determiner-en-fin-avril-2025-debut-mai-2025/
END:VEVENT
BEGIN:VEVENT
DTSTART;TZID=America/New_York:20250125T090000
DTEND;TZID=America/New_York:20250125T160000
DTSTAMP:20260420T065655
CREATED:20240924T184727Z
LAST-MODIFIED:20241113T140655Z
UID:506-1737795600-1737820800@grenouillerose.com
SUMMARY:Colloque RSGE le 25 janvier 2025
DESCRIPTION:** INSCRIPTION OBLIGATOIRE POUR SUIVRE CES FORMATIONS ** \n\n\n\nJournée incluant les 2 formations suivantes et 1 heure de dîner:  \n\n\n\n9h: Interventions efficaces (3h) \n\n\n\n13h: Prévenir l’anxiété chez l’enfant (3h)
URL:https://grenouillerose.com/evenement/colloque-rsge-janvier2025/
ORGANIZER;CN="La Grenouille Rose":MAILTO:info@lagrenouillerose.com
END:VEVENT
BEGIN:VEVENT
DTSTART;TZID=America/New_York:20241008T183000
DTEND;TZID=America/New_York:20241008T203000
DTSTAMP:20260420T065655
CREATED:20240815T143554Z
LAST-MODIFIED:20241025T194408Z
UID:350-1728412200-1728419400@grenouillerose.com
SUMMARY:AGA à l'auditorium
DESCRIPTION:
URL:https://grenouillerose.com/evenement/aga-octobre2024/
ORGANIZER;CN="La Grenouille Rose":MAILTO:info@lagrenouillerose.com
END:VEVENT
BEGIN:VEVENT
DTSTART;VALUE=DATE:20241001
DTEND;VALUE=DATE:20241002
DTSTAMP:20260420T065655
CREATED:20240815T143313Z
LAST-MODIFIED:20241210T125726Z
UID:348-1727740800-1727827199@grenouillerose.com
SUMMARY:Capsule pédagogique d'octobre
DESCRIPTION:Surveillez le courriel de la RSGE : vous y trouverez la capsule pédagogique mensuelle.
URL:https://grenouillerose.com/evenement/capsule-pedagogique-octobre2024/
ATTACH;FMTTYPE=image/jpeg:https://grenouillerose.com/wp-content/uploads/2024/05/girls-playing-on-a-white-table-3662668-2048x1365.jpg
ORGANIZER;CN="La Grenouille Rose":MAILTO:info@lagrenouillerose.com
END:VEVENT
BEGIN:VEVENT
DTSTART;TZID=America/New_York:20240928T183000
DTEND;TZID=America/New_York:20240928T203000
DTSTAMP:20260420T065655
CREATED:20240815T142821Z
LAST-MODIFIED:20240924T185050Z
UID:343-1727548200-1727555400@grenouillerose.com
SUMMARY:Rencontre RSGE à l'auditorium
DESCRIPTION:
URL:https://grenouillerose.com/evenement/rencontre-rsge-septembre2024/
ATTACH;FMTTYPE=image/jpeg:https://grenouillerose.com/wp-content/uploads/2024/05/439227940_373787315647958_7825305067852240187_n.jpg
ORGANIZER;CN="La Grenouille Rose":MAILTO:info@lagrenouillerose.com
END:VEVENT
END:VCALENDAR